BEGIN:VCALENDAR
PRODID;X-RICAL-TZSOURCE=TZINFO:-&#47;&#47;com.denhaven2&#47;NONSGML ri_cal gem&#47;&#47;EN
CALSCALE:GREGORIAN
VERSION:2.0
BEGIN:VEVENT
DTEND;VALUE=DATE:20100528
DTSTART;VALUE=DATE:20100528
DESCRIPTION:Release 1.1 is due on 05&#47;28&#47;10 (0 tickets)
SUMMARY:Milestone for MGTwitterEngine: Release 1.1
LOCATION:https:&#47;&#47;ctshryock.lighthouseapp.com&#47;projects&#47;51614&#47;milestones&#47;71
 170-release-11
END:VEVENT
END:VCALENDAR
